BEGIN:VCALENDAR
VERSION:2.0
PRODID:-//Willkommen bei Hundsein in Heist! - ECPv6.15.20//NONSGML v1.0//EN
CALSCALE:GREGORIAN
METHOD:PUBLISH
X-WR-CALNAME:Willkommen bei Hundsein in Heist!
X-ORIGINAL-URL:https://hundsein.com
X-WR-CALDESC:Veranstaltungen für Willkommen bei Hundsein in Heist!
REFRESH-INTERVAL;VALUE=DURATION:PT1H
X-Robots-Tag:noindex
X-PUBLISHED-TTL:PT1H
BEGIN:VTIMEZONE
TZID:Europe/Berlin
BEGIN:DAYLIGHT
TZOFFSETFROM:+0100
TZOFFSETTO:+0200
TZNAME:CEST
DTSTART:20250330T010000
END:DAYLIGHT
BEGIN:STANDARD
TZOFFSETFROM:+0200
TZOFFSETTO:+0100
TZNAME:CET
DTSTART:20251026T010000
END:STANDARD
BEGIN:DAYLIGHT
TZOFFSETFROM:+0100
TZOFFSETTO:+0200
TZNAME:CEST
DTSTART:20260329T010000
END:DAYLIGHT
BEGIN:STANDARD
TZOFFSETFROM:+0200
TZOFFSETTO:+0100
TZNAME:CET
DTSTART:20261025T010000
END:STANDARD
BEGIN:DAYLIGHT
TZOFFSETFROM:+0100
TZOFFSETTO:+0200
TZNAME:CEST
DTSTART:20270328T010000
END:DAYLIGHT
BEGIN:STANDARD
TZOFFSETFROM:+0200
TZOFFSETTO:+0100
TZNAME:CET
DTSTART:20271031T010000
END:STANDARD
END:VTIMEZONE
BEGIN:VEVENT
DTSTART;TZID=Europe/Berlin:20261004T123000
DTEND;TZID=Europe/Berlin:20261004T150000
DTSTAMP:20260421T104710
CREATED:20240517T124638Z
LAST-MODIFIED:20260328T171129Z
UID:1388-1791117000-1791126000@hundsein.com
SUMMARY:All-inclusive
DESCRIPTION:!!6 Jahre All-inclusive !!   \n\n\n\n\n\n\n\n \n\n\n\nEine Veranstaltung für alle\, die Spaß an der Geselligkeit\, spazieren gehen und an der Bewältigung von Aufgaben haben.  \n\n\n\nMit deinem Hund eine Fährte ausarbeiten\, etwas aus einem Teich apportieren\, Leinenführung  an Verleitungen vorbei sowie aus besonderen Positionen heraus z.b. während man jemanden in der Schubkarre schiebt ? Herausfinden was Limbo und Limba sind…. uvm dass ist „All-inclusive“. Alles kann nichts muß\, es gibt nur ein Muß an diesem Nachmittag: du und dein Hund zusammen\, als Team und Freude bei vielen verschiedenen Aufgaben. Wenn sich das interessant für dich anhört\, dann sei dabei. Gemeinsam mit Born to train dogs aus Wedel möchten wir Dir und Deinem Hund einen tollen Nachmittag in Geselligkeit bieten. Kaffee und Kuchen sind im Preis enthalten. \n\n\n\n                                                                             —und für alle die schon dabei waren: auf Euch warten neue und alte tolle spannende Aufgaben— \n\n\n\n\n\n\n\n \n\n\n\n \n\n\n\n\n\nMitveranstalter Born to train dogs Wedel www.borntotraindogs.de info@borntotraindogs.de 017634113521
URL:https://hundsein.com/event/all-inclusive/
LOCATION:Hundeschule und Verhaltensberatung Hundsein Heist
END:VEVENT
END:VCALENDAR