BEGIN:VCALENDAR
VERSION:2.0
PRODID:-//Willkommen bei Hundsein in Heist! - ECPv6.15.20//NONSGML v1.0//EN
CALSCALE:GREGORIAN
METHOD:PUBLISH
X-ORIGINAL-URL:https://hundsein.com
X-WR-CALDESC:Veranstaltungen für Willkommen bei Hundsein in Heist!
REFRESH-INTERVAL;VALUE=DURATION:PT1H
X-Robots-Tag:noindex
X-PUBLISHED-TTL:PT1H
BEGIN:VTIMEZONE
TZID:Europe/Berlin
BEGIN:DAYLIGHT
TZOFFSETFROM:+0100
TZOFFSETTO:+0200
TZNAME:CEST
DTSTART:20240331T010000
END:DAYLIGHT
BEGIN:STANDARD
TZOFFSETFROM:+0200
TZOFFSETTO:+0100
TZNAME:CET
DTSTART:20241027T010000
END:STANDARD
BEGIN:DAYLIGHT
TZOFFSETFROM:+0100
TZOFFSETTO:+0200
TZNAME:CEST
DTSTART:20250330T010000
END:DAYLIGHT
BEGIN:STANDARD
TZOFFSETFROM:+0200
TZOFFSETTO:+0100
TZNAME:CET
DTSTART:20251026T010000
END:STANDARD
BEGIN:DAYLIGHT
TZOFFSETFROM:+0100
TZOFFSETTO:+0200
TZNAME:CEST
DTSTART:20260329T010000
END:DAYLIGHT
BEGIN:STANDARD
TZOFFSETFROM:+0200
TZOFFSETTO:+0100
TZNAME:CET
DTSTART:20261025T010000
END:STANDARD
END:VTIMEZONE
BEGIN:VEVENT
DTSTART;TZID=Europe/Berlin:20250625T180000
DTEND;TZID=Europe/Berlin:20250625T200000
DTSTAMP:20260420T212957
CREATED:20250223T162241Z
LAST-MODIFIED:20250422T172245Z
UID:1552-1750874400-1750881600@hundsein.com
SUMMARY:Vortrag: Leinenführung-von Grund auf verstehen
DESCRIPTION:Leinenführigkeit braucht ein gutes Fundament\, wie ein Haus\, langsamer guter Aufbau-nur dann kann sie standhaft sein. In diesem Vortrag erfährst Du\, wie du ein gutes Fundament schaffen kannst und warum Hunde an der Leine ziehen. Auch über mögliche Techniken werden wir sprechen. Ein Theorieabend\, um in Ruhe zu sprechen. Bringe Deine ganz individuellen Fragen mit.
URL:https://hundsein.com/event/leinenfuehrung-von-grund-auf-verstehen/
LOCATION:Hundeschule und Verhaltensberatung Hundsein Heist\, Kreuzweg\, Kreuzweg\, Heist
END:VEVENT
END:VCALENDAR