BEGIN:VCALENDAR
VERSION:2.0
PRODID:-//Willkommen bei Hundsein in Heist! - ECPv6.15.20//NONSGML v1.0//EN
CALSCALE:GREGORIAN
METHOD:PUBLISH
X-WR-CALNAME:Willkommen bei Hundsein in Heist!
X-ORIGINAL-URL:https://hundsein.com
X-WR-CALDESC:Veranstaltungen für Willkommen bei Hundsein in Heist!
REFRESH-INTERVAL;VALUE=DURATION:PT1H
X-Robots-Tag:noindex
X-PUBLISHED-TTL:PT1H
BEGIN:VTIMEZONE
TZID:Europe/Berlin
BEGIN:DAYLIGHT
TZOFFSETFROM:+0100
TZOFFSETTO:+0200
TZNAME:CEST
DTSTART:20230326T010000
END:DAYLIGHT
BEGIN:STANDARD
TZOFFSETFROM:+0200
TZOFFSETTO:+0100
TZNAME:CET
DTSTART:20231029T010000
END:STANDARD
BEGIN:DAYLIGHT
TZOFFSETFROM:+0100
TZOFFSETTO:+0200
TZNAME:CEST
DTSTART:20240331T010000
END:DAYLIGHT
BEGIN:STANDARD
TZOFFSETFROM:+0200
TZOFFSETTO:+0100
TZNAME:CET
DTSTART:20241027T010000
END:STANDARD
BEGIN:DAYLIGHT
TZOFFSETFROM:+0100
TZOFFSETTO:+0200
TZNAME:CEST
DTSTART:20250330T010000
END:DAYLIGHT
BEGIN:STANDARD
TZOFFSETFROM:+0200
TZOFFSETTO:+0100
TZNAME:CET
DTSTART:20251026T010000
END:STANDARD
END:VTIMEZONE
BEGIN:VEVENT
DTSTART;TZID=Europe/Berlin:20240720T100000
DTEND;TZID=Europe/Berlin:20240720T140000
DTSTAMP:20260423T031400
CREATED:20240506T063714Z
LAST-MODIFIED:20240517T140933Z
UID:1323-1721469600-1721484000@hundsein.com
SUMMARY:Aufbaukurs Kooperation Ansprechbarkeit Rückruf
DESCRIPTION:Aufbaukurs zum Grundkurs \, wir etablieren die nächsten Schritte: Kooperation und Ansprechbarkeit wird durch gezielte Übungen gefördert. Wir schauen auf jeden Hund einzelnd und was er und es braucht\, um in einen engen Kontakt mit uns zu gehen. Welche Einwirkungsmöglichkeiten haben wir ? Wir arbeiten Körpersprachlich und ihr lernt den Rückruf am Ende gezielt einzusetzten. Der Gundkurs zum Thema ist keine Voraussetzung. Der Kurs ist was für dich wenn du den Grundkurs absolviert hast oder aber auch quer einsteigen möchtest\, weil dein Rückruf schon ganz gut klappt\, es aber immer wieder Momente gibt\, wo du dir eine bessere Ansprechbarkeit wünscht. \n\n\n\n/ \n\n\n\n\n\n \n\n\n\n\n\n\nZur Anmeldung\n\n\n\n\n \n\n\n\nDer Preis des Kurses bezieht sich auf 1 Teilnehmer mit 1 Hund. Für Begleitpersonen wird die Hälfte des Kurspreises berechnet\, weil nicht nur der Hund trainiert wird sondern auch das Verhalten des/der Menschen.
URL:https://hundsein.com/event/aufbaukurs-kooperation-ansprechbarkeit-rueckruf/
LOCATION:Hundeschule und Verhaltensberatung Hundsein Heist\, Kreuzweg\, Kreuzweg\, Heist
END:VEVENT
END:VCALENDAR