BEGIN:VCALENDAR
VERSION:2.0
PRODID:-//Willkommen bei Hundsein in Heist! - ECPv6.15.20//NONSGML v1.0//EN
CALSCALE:GREGORIAN
METHOD:PUBLISH
X-ORIGINAL-URL:https://hundsein.com
X-WR-CALDESC:Veranstaltungen für Willkommen bei Hundsein in Heist!
REFRESH-INTERVAL;VALUE=DURATION:PT1H
X-Robots-Tag:noindex
X-PUBLISHED-TTL:PT1H
BEGIN:VTIMEZONE
TZID:Europe/Berlin
BEGIN:DAYLIGHT
TZOFFSETFROM:+0100
TZOFFSETTO:+0200
TZNAME:CEST
DTSTART:20230326T010000
END:DAYLIGHT
BEGIN:STANDARD
TZOFFSETFROM:+0200
TZOFFSETTO:+0100
TZNAME:CET
DTSTART:20231029T010000
END:STANDARD
BEGIN:DAYLIGHT
TZOFFSETFROM:+0100
TZOFFSETTO:+0200
TZNAME:CEST
DTSTART:20240331T010000
END:DAYLIGHT
BEGIN:STANDARD
TZOFFSETFROM:+0200
TZOFFSETTO:+0100
TZNAME:CET
DTSTART:20241027T010000
END:STANDARD
BEGIN:DAYLIGHT
TZOFFSETFROM:+0100
TZOFFSETTO:+0200
TZNAME:CEST
DTSTART:20250330T010000
END:DAYLIGHT
BEGIN:STANDARD
TZOFFSETFROM:+0200
TZOFFSETTO:+0100
TZNAME:CET
DTSTART:20251026T010000
END:STANDARD
END:VTIMEZONE
BEGIN:VEVENT
DTSTART;TZID=Europe/Berlin:20240303T123000
DTEND;TZID=Europe/Berlin:20240303T143000
DTSTAMP:20260423T094039
CREATED:20240102T164430Z
LAST-MODIFIED:20240102T164701Z
UID:1204-1709469000-1709476200@hundsein.com
SUMMARY:1. Hilfekurs
DESCRIPTION:Ein Praxisseminar mit vielen praktischen Übungen und Erklärungen für wichtige Alltagssituationen. Tierärztin Kirsten Meyer von Blue Moon mobile Tierarztpraxis wird anschaulich erklären\, was wir alle in einer Verletzungssituation tun können\, was sinnvoll ist\, was den Tierärzten hilft\, damit eine Erst-und Weiterversorgung reibungslos klappen kann.Hunde dürfen mitgebracht werden. Wer ohne Hund kommt bekommt trotzdem die Möglichkeit praxisnah zu arbeiten. \n\n\n\nDie Veranstaltung findet wetterunabhängig in einer Reithalle statt.Kosten: 38 €/Teilnehmer
URL:https://hundsein.com/event/1-hilfekurs/
END:VEVENT
END:VCALENDAR