BEGIN:VCALENDAR
VERSION:2.0
PRODID:-//Willkommen bei Hundsein in Heist! - ECPv6.15.20//NONSGML v1.0//EN
CALSCALE:GREGORIAN
METHOD:PUBLISH
X-ORIGINAL-URL:https://hundsein.com
X-WR-CALDESC:Veranstaltungen für Willkommen bei Hundsein in Heist!
REFRESH-INTERVAL;VALUE=DURATION:PT1H
X-Robots-Tag:noindex
X-PUBLISHED-TTL:PT1H
BEGIN:VTIMEZONE
TZID:Europe/Berlin
BEGIN:DAYLIGHT
TZOFFSETFROM:+0100
TZOFFSETTO:+0200
TZNAME:CEST
DTSTART:20230326T010000
END:DAYLIGHT
BEGIN:STANDARD
TZOFFSETFROM:+0200
TZOFFSETTO:+0100
TZNAME:CET
DTSTART:20231029T010000
END:STANDARD
BEGIN:DAYLIGHT
TZOFFSETFROM:+0100
TZOFFSETTO:+0200
TZNAME:CEST
DTSTART:20240331T010000
END:DAYLIGHT
BEGIN:STANDARD
TZOFFSETFROM:+0200
TZOFFSETTO:+0100
TZNAME:CET
DTSTART:20241027T010000
END:STANDARD
BEGIN:DAYLIGHT
TZOFFSETFROM:+0100
TZOFFSETTO:+0200
TZNAME:CEST
DTSTART:20250330T010000
END:DAYLIGHT
BEGIN:STANDARD
TZOFFSETFROM:+0200
TZOFFSETTO:+0100
TZNAME:CET
DTSTART:20251026T010000
END:STANDARD
END:VTIMEZONE
BEGIN:VEVENT
DTSTART;TZID=Europe/Berlin:20240217T100000
DTEND;TZID=Europe/Berlin:20240217T140000
DTSTAMP:20260423T113055
CREATED:20231121T121925Z
LAST-MODIFIED:20231121T122020Z
UID:1166-1708164000-1708178400@hundsein.com
SUMMARY:Körpersprachliches Führen / Schulung Körpersprache Mensch
DESCRIPTION:Hunde sind wahre Meister im Lesen der Körpersprache\, sie erkennen an uns winzige Gesten\, Blicke und Haltungen (auch die innere) und reagieren drauf. In diesem Kurs lernst du als Mensch dich bewußt zu bewegen und in detaillierten Übungen\, wie man die menschliche Körpersprache  in der Kommunikation mit dem Hund anwenden kann. Nach diesem Tag wirst du ein „Mehr-Bewußtsein“ für dich und deinem Hund haben\, dich bewußter bewegen und deine Beziehung zu deinem Hund vertieft sich. In den Pausen steht Kaffee und Tee zur Verfügung.
URL:https://hundsein.com/event/koerpersprachliches-fuehren-schulung-koerpersprache-mensch/
END:VEVENT
END:VCALENDAR