BEGIN:VCALENDAR
VERSION:2.0
PRODID:-//Willkommen bei Hundsein in Heist! - ECPv6.15.20//NONSGML v1.0//EN
CALSCALE:GREGORIAN
METHOD:PUBLISH
X-ORIGINAL-URL:https://hundsein.com
X-WR-CALDESC:Veranstaltungen für Willkommen bei Hundsein in Heist!
REFRESH-INTERVAL;VALUE=DURATION:PT1H
X-Robots-Tag:noindex
X-PUBLISHED-TTL:PT1H
BEGIN:VTIMEZONE
TZID:Europe/Berlin
BEGIN:DAYLIGHT
TZOFFSETFROM:+0100
TZOFFSETTO:+0200
TZNAME:CEST
DTSTART:20220327T010000
END:DAYLIGHT
BEGIN:STANDARD
TZOFFSETFROM:+0200
TZOFFSETTO:+0100
TZNAME:CET
DTSTART:20221030T010000
END:STANDARD
BEGIN:DAYLIGHT
TZOFFSETFROM:+0100
TZOFFSETTO:+0200
TZNAME:CEST
DTSTART:20230326T010000
END:DAYLIGHT
BEGIN:STANDARD
TZOFFSETFROM:+0200
TZOFFSETTO:+0100
TZNAME:CET
DTSTART:20231029T010000
END:STANDARD
BEGIN:DAYLIGHT
TZOFFSETFROM:+0100
TZOFFSETTO:+0200
TZNAME:CEST
DTSTART:20240331T010000
END:DAYLIGHT
BEGIN:STANDARD
TZOFFSETFROM:+0200
TZOFFSETTO:+0100
TZNAME:CET
DTSTART:20241027T010000
END:STANDARD
END:VTIMEZONE
BEGIN:VEVENT
DTSTART;TZID=Europe/Berlin:20231219T190000
DTEND;TZID=Europe/Berlin:20231219T200000
DTSTAMP:20260425T145856
CREATED:20230702T192202Z
LAST-MODIFIED:20231026T133039Z
UID:917-1703012400-1703016000@hundsein.com
SUMMARY:kostenloser Infoabend zum Jagdkontrolltraining 2024
DESCRIPTION:Vorangeschaltet an die Termine des Jagdkontrolltrainings 2024\, den ihr unter dem Kursangebot findet\, gibt es einen kostenlosen Infoabend \, wo ihr bei Interesse an diesem Kurs Fragen zum Ablauf stellen und Euch einen Überblick über den Wert des Kurses für Euch verschaffen.
URL:https://hundsein.com/event/begegnungstraining-2/
LOCATION:Trainingsgelände\, Kreuzweg 42\, Heist\, 25492
END:VEVENT
END:VCALENDAR