BEGIN:VCALENDAR
VERSION:2.0
PRODID:-//Willkommen bei Hundsein in Heist! - ECPv6.15.20//NONSGML v1.0//EN
CALSCALE:GREGORIAN
METHOD:PUBLISH
X-WR-CALNAME:Willkommen bei Hundsein in Heist!
X-ORIGINAL-URL:https://hundsein.com
X-WR-CALDESC:Veranstaltungen für Willkommen bei Hundsein in Heist!
REFRESH-INTERVAL;VALUE=DURATION:PT1H
X-Robots-Tag:noindex
X-PUBLISHED-TTL:PT1H
BEGIN:VTIMEZONE
TZID:Europe/Berlin
BEGIN:DAYLIGHT
TZOFFSETFROM:+0100
TZOFFSETTO:+0200
TZNAME:CEST
DTSTART:20230326T010000
END:DAYLIGHT
BEGIN:STANDARD
TZOFFSETFROM:+0200
TZOFFSETTO:+0100
TZNAME:CET
DTSTART:20231029T010000
END:STANDARD
BEGIN:DAYLIGHT
TZOFFSETFROM:+0100
TZOFFSETTO:+0200
TZNAME:CEST
DTSTART:20240331T010000
END:DAYLIGHT
BEGIN:STANDARD
TZOFFSETFROM:+0200
TZOFFSETTO:+0100
TZNAME:CET
DTSTART:20241027T010000
END:STANDARD
BEGIN:DAYLIGHT
TZOFFSETFROM:+0100
TZOFFSETTO:+0200
TZNAME:CEST
DTSTART:20250330T010000
END:DAYLIGHT
BEGIN:STANDARD
TZOFFSETFROM:+0200
TZOFFSETTO:+0100
TZNAME:CET
DTSTART:20251026T010000
END:STANDARD
END:VTIMEZONE
BEGIN:VEVENT
DTSTART;TZID=Europe/Berlin:20240810T100000
DTEND;TZID=Europe/Berlin:20240810T130000
DTSTAMP:20260423T031344
CREATED:20240517T121723Z
LAST-MODIFIED:20240707T050336Z
UID:1379-1723284000-1723294800@hundsein.com
SUMMARY:Begegnungs und Integrations-Training
DESCRIPTION:Wem wollen wir begegnen ? Wen wollen wir integrieren ? Wir wollen das ruhige oder schon gut trainierte Mensch-/Hund Teams aufgeregten\, aufbrausenden noch nicht so gut Begegnungen aushaltenden Mensch-/Hund-Teams begegnen. Beide Parteien sollen von einander profitieren\, vorausgesetzt: sie wollen! Das ist ganz wichtig. Wenn du dazu Lust hast dann bist du hier genau richtig: wenn du mit deinem ruhigen oder schon gut trainierten Hund anderen eine Begegnung bieten möchtest\, wo es noch nicht so gut klappt und wenn die\, wo es noch nicht so gut klappt\, dir mit deinem ruhigen oder schon gut trainierten Hund eine Begegnung bieten dürfen\, wo dein Hund noch mehr aushalten lernt. Also\, alles soll und darf sein. Auf dich zuziehende starrende oder bellende Hunde sind oft eine große Herausforderung.\, die Alltagsbegegnungen schwierig machen. Als Hundeführer solltest du also Lust haben daran zu arbeiten und schon etwas kennen was in die Richtung geht von: ich kann eigentlich Kontakt zu meinem Hund herstellen aber es klappt sehr oft im Alltag nicht und mit den Reizen bei diesem Treffen auch nicht. Dafür machen wir diese Veranstaltung. Und es ist dabei egal\, ob dein Hund nur aufgeregt ist grundsätzlich aber freundlich oder aggressiv\, ihr seit alle herzlich Willkommen. Denn das wollen wir an dem Tag machen : Üben üben üben. Nichts muss perfekt klappen\, dafür bieten alle Teilnehmer sich gegenseitig die besten Begegnungen und integrieren sich jeweils gegenseitig in eine Gruppe. Am Ende kann ein Spaziergang stehen\, wo wir alle als Gruppe losziehen. An der Leine.  Hast Du Lust? Dann sei dabei.
URL:https://hundsein.com/event/begegnungs-und-integrations-spaziergang/
LOCATION:Hundeschule und Verhaltensberatung Hundsein Heist\, Kreuzweg\, Kreuzweg\, Heist
END:VEVENT
END:VCALENDAR