BEGIN:VCALENDAR
VERSION:2.0
PRODID:-//Willkommen bei Hundsein in Heist! - ECPv6.15.20//NONSGML v1.0//EN
CALSCALE:GREGORIAN
METHOD:PUBLISH
X-WR-CALNAME:Willkommen bei Hundsein in Heist!
X-ORIGINAL-URL:https://hundsein.com
X-WR-CALDESC:Veranstaltungen für Willkommen bei Hundsein in Heist!
REFRESH-INTERVAL;VALUE=DURATION:PT1H
X-Robots-Tag:noindex
X-PUBLISHED-TTL:PT1H
BEGIN:VTIMEZONE
TZID:Europe/Berlin
BEGIN:DAYLIGHT
TZOFFSETFROM:+0100
TZOFFSETTO:+0200
TZNAME:CEST
DTSTART:20230326T010000
END:DAYLIGHT
BEGIN:STANDARD
TZOFFSETFROM:+0200
TZOFFSETTO:+0100
TZNAME:CET
DTSTART:20231029T010000
END:STANDARD
BEGIN:DAYLIGHT
TZOFFSETFROM:+0100
TZOFFSETTO:+0200
TZNAME:CEST
DTSTART:20240331T010000
END:DAYLIGHT
BEGIN:STANDARD
TZOFFSETFROM:+0200
TZOFFSETTO:+0100
TZNAME:CET
DTSTART:20241027T010000
END:STANDARD
BEGIN:DAYLIGHT
TZOFFSETFROM:+0100
TZOFFSETTO:+0200
TZNAME:CEST
DTSTART:20250330T010000
END:DAYLIGHT
BEGIN:STANDARD
TZOFFSETFROM:+0200
TZOFFSETTO:+0100
TZNAME:CET
DTSTART:20251026T010000
END:STANDARD
END:VTIMEZONE
BEGIN:VEVENT
DTSTART;TZID=Europe/Berlin:20240421T140000
DTEND;TZID=Europe/Berlin:20240421T160000
DTSTAMP:20260423T093610
CREATED:20240115T142346Z
LAST-MODIFIED:20240115T142731Z
UID:1248-1713708000-1713715200@hundsein.com
SUMMARY:Gerätekurs in Dätgen
DESCRIPTION:Was erwartet Euch?Ein toller Parcour mit tollen Geräten.Treppen\, Hängebrücke\, „Schwebebalken“ in rund und eckig\, Tunnel\, Wackelbretter uvmWir wollen diese Geräte in Ruhe und mit körpersprachlicher Führung arbeiten.Kooperation\, Konzentration und Koordination stehen im Vordergrund und nicht: schnell und hüpfen und springen.Vertrauensvoll mit seinem Hund an die Grenzen gehen\, in seinem Tempo\, Schwierigkeiten wahrnehmen und gemeinsam lösen. Seinen Hund „retten“ und ein Gerät vll auch mal nicht zu Ende arbeiten sondern später wieder beginnen\, auch das kann sein.Für regelmäßige ruhige Pausen zwischen den Geräten wird gesorgt indem eure Hunde abliegen und dösen\, um dann gestärkt weiterzuarbeiten.Gerätearbeit macht Mut und stärkt eure Beziehung zu eurem Hund und sein Selbstwertgefühl.Dynamische Hunde lernen\, dass es auch mal langsam gehen kann.Impulse werden kontrolliert. \n\n\n\nDer Kurs findet in Dätgen statt. \n\n\n\nIch freue mich auf einen tollen Tag mit Euch! 😊
URL:https://hundsein.com/event/geraetekurs-in-daetgen/
LOCATION:Hundeschule Dätgen\, Dorfstr. 36\, 24589 Dätgen\, Germany
END:VEVENT
END:VCALENDAR